BEGIN:VCALENDAR
VERSION:2.0
PRODID:-//eventon.com NONSGML v1.0//EN
CALSCALE:GREGORIAN
METHOD:PUBLISH
BEGIN:VEVENT
UID:69eb9bb07000b
DTSTAMP:20260424T163456Z
DTSTART:20220515
DTEND:20220516
LOCATION:
SUMMARY:Stijljurycursus
DESCRIPTION:Stijljurycursus mei 2022\nhttps://www.taekwondobond.nl/events/s
 tijljurycursus-5/
URL:https://www.taekwondobond.nl/events/stijljurycursus-5/
END:VEVENT
END:VCALENDAR