BEGIN:VCALENDAR
VERSION:2.0
PRODID:-//eventon.com NONSGML v1.0//EN
CALSCALE:GREGORIAN
METHOD:PUBLISH
BEGIN:VEVENT
UID:69eb9b92bbcba
DTSTAMP:20260424T163426Z
DTSTART:20230211
DTEND:20230212
LOCATION:
SUMMARY:GEANNULEERD! 23e Open Zuid Nederlandse Kampioenschappen GEANNULEERD!
DESCRIPTION:23e Open Zuid Nederlandse Kampioenschappen (2023) &nbsp; L.S.\,
   Hierbij informeren wij u over de annulering van de 23e Open Zuid Nederlan
 dse Kampioenschappen van 11 februari aanstaande. Onderstaand een toelichtin
 g van de organiserende vereniging. &nbsp; Met vriendelijke groet\,  TAEKWON
 DO BOND NEDERLAND Geachte heer\,  mevrouw\,    Middels deze schrijven will
 en wij de[..]\nhttps://www.taekwondobond.nl/events/23e-open-zuid-nederlands
 e-kampioenschappen-onder-voorbehoud/
URL:https://www.taekwondobond.nl/events/23e-open-zuid-nederlandse-kampioenschappen-onder-voorbehoud/
END:VEVENT
END:VCALENDAR