BEGIN:VCALENDAR
VERSION:2.0
PRODID:-//eventon.com NONSGML v1.0//EN
CALSCALE:GREGORIAN
METHOD:PUBLISH
BEGIN:VEVENT
UID:69eb9bf5284d7
DTSTAMP:20260424T163605Z
DTSTART:20220622T200000Z
DTEND:20220622T223000Z
LOCATION:
SUMMARY:Voorjaarsvergadering
DESCRIPTION:Oproep voorjaarsvergadering 2022 Definitieve agenda voorjaarsve
 rgadering 2022 &nbsp;\nhttps://www.taekwondobond.nl/events/voorjaarsvergade
 ring-6/
URL:https://www.taekwondobond.nl/events/voorjaarsvergadering-6/
END:VEVENT
END:VCALENDAR