BEGIN:VCALENDAR
VERSION:2.0
PRODID:-//eventon.com NONSGML v1.0//EN
CALSCALE:GREGORIAN
METHOD:PUBLISH
BEGIN:VEVENT
UID:69eb9b4fe0c29
DTSTAMP:20260424T163319Z
DTSTART:20220710
DTEND:20220711
LOCATION:
SUMMARY:Nationale Taekwondodag
DESCRIPTION:10 juli 2022 zal voor de eerste keer een Nationale taekwondodag
   georganiseerd worden. In samenwerking met de Koreaanse ambassade en de T
 BN gaan we er een geweldig spektakel van maken. Er zullen seminars gehouden
  worden voor iedereen\,  beginners en gevorderde. Sparren en Stijl. Sparren
  zal gaan onder leiding van Rafik[..]\nhttps://www.taekwondobond.nl/events/
 nk-sparren-2022/
URL:https://www.taekwondobond.nl/events/nk-sparren-2022/
END:VEVENT
END:VCALENDAR