BEGIN:VCALENDAR
VERSION:2.0
PRODID:-//eventon.com NONSGML v1.0//EN
CALSCALE:GREGORIAN
METHOD:PUBLISH
BEGIN:VEVENT
UID:69e74ea2e9118
DTSTAMP:20260421T101706Z
DTSTART:20220601
DTEND:20220602
LOCATION:
SUMMARY:Districtsvergadering Zuid-Nederland
DESCRIPTION:oproep districtsvergadering-zuid-nederland-juni-2022 definitiev
 e-agenda-districtsvergadering-zuid-nederland-juni-2022\nhttps://www.taekwon
 dobond.nl/events/districtsvergadering-zuid-nederland-8/
URL:https://www.taekwondobond.nl/events/districtsvergadering-zuid-nederland-8/
END:VEVENT
END:VCALENDAR