BEGIN:VCALENDAR
VERSION:2.0
PRODID:-//eventon.com NONSGML v1.0//EN
CALSCALE:GREGORIAN
METHOD:PUBLISH
BEGIN:VEVENT
UID:69eb9c029c147
DTSTAMP:20260424T163618Z
DTSTART:20230416
DTEND:20230417
LOCATION:
SUMMARY:Open Districtskampioenschap Stijl - district Noord Oost
DESCRIPTION:Open District NoordOost Poomsae kampioenschap 2023\nhttps://www
 .taekwondobond.nl/events/open-districtskampioenschap-stijl-district-noord-o
 ost/
URL:https://www.taekwondobond.nl/events/open-districtskampioenschap-stijl-district-noord-oost/
END:VEVENT
END:VCALENDAR