BEGIN:VCALENDAR
VERSION:2.0
PRODID:-//eventon.com NONSGML v1.0//EN
CALSCALE:GREGORIAN
METHOD:PUBLISH
BEGIN:VEVENT
UID:69e5f88fb9b2b
DTSTAMP:20260420T095735Z
DTSTART:20220626
DTEND:20220627
LOCATION:
SUMMARY:Sparring seminar Reshmie Oogink
DESCRIPTION:Sparring seminar Reshmie Oogink 26 juni 2022\nhttps://www.taekw
 ondobond.nl/events/sparring-seminar-reshmie-oogink/
URL:https://www.taekwondobond.nl/events/sparring-seminar-reshmie-oogink/
END:VEVENT
END:VCALENDAR