BEGIN:VCALENDAR
VERSION:2.0
PRODID:-//eventon.com NONSGML v1.0//EN
CALSCALE:GREGORIAN
METHOD:PUBLISH
BEGIN:VEVENT
UID:69eb9c4923db3
DTSTAMP:20260424T163729Z
DTSTART:20220702
DTEND:20220703
LOCATION:
SUMMARY:Poomsae seminar
DESCRIPTION:Aanmelden op info@taekwondobond.nl met naam\,  bondslidnummer e
 n graduatie.\nhttps://www.taekwondobond.nl/events/poomsae-seminar-3/
URL:https://www.taekwondobond.nl/events/poomsae-seminar-3/
END:VEVENT
END:VCALENDAR