BEGIN:VCALENDAR
VERSION:2.0
PRODID:-//eventon.com NONSGML v1.0//EN
CALSCALE:GREGORIAN
METHOD:PUBLISH
BEGIN:VEVENT
UID:69eb9b4e7cfca
DTSTAMP:20260424T163318Z
DTSTART:20221113
DTEND:20221114
LOCATION:
SUMMARY:Stijljurycursus en bijscholing
DESCRIPTION:Stijljurycursus en bijscholing\nhttps://www.taekwondobond.nl/ev
 ents/stijljurycursus-6/
URL:https://www.taekwondobond.nl/events/stijljurycursus-6/
END:VEVENT
END:VCALENDAR