BEGIN:VCALENDAR
VERSION:2.0
PRODID:-//eventon.com NONSGML v1.0//EN
CALSCALE:GREGORIAN
METHOD:PUBLISH
BEGIN:VEVENT
UID:69eb9c48e648d
DTSTAMP:20260424T163728Z
DTSTART:20230225
DTEND:20230226
LOCATION:
SUMMARY:Open Pal-Jang
DESCRIPTION:Sparringtoernooi\nhttps://www.taekwondobond.nl/events/open-pal-
 jang-onder-voorbehoud/
URL:https://www.taekwondobond.nl/events/open-pal-jang-onder-voorbehoud/
END:VEVENT
END:VCALENDAR