BEGIN:VCALENDAR
VERSION:2.0
PRODID:-//eventon.com NONSGML v1.0//EN
CALSCALE:GREGORIAN
METHOD:PUBLISH
BEGIN:VEVENT
UID:69e5f6f5578ca
DTSTAMP:20260420T095045Z
DTSTART:20221009
DTEND:20221010
LOCATION:
SUMMARY:Taekwondo Fun Seminar
DESCRIPTION:Taekwondo Affiche Fun Seminar 2022\nhttps://www.taekwondobond.n
 l/events/taekwondo-fun-seminar/
URL:https://www.taekwondobond.nl/events/taekwondo-fun-seminar/
END:VEVENT
END:VCALENDAR