BEGIN:VCALENDAR
VERSION:2.0
PRODID:-//eventon.com NONSGML v1.0//EN
CALSCALE:GREGORIAN
METHOD:PUBLISH
BEGIN:VEVENT
UID:69eb9b97b9a1d
DTSTAMP:20260424T163431Z
DTSTART:20230205T100000Z
DTEND:20230205T140000Z
LOCATION:
SUMMARY:Regionale training stijlteam west
DESCRIPTION:Regionale training stijlteam west\nhttps://www.taekwondobond.nl
 /events/regionale-training-stijlteam-west-6/
URL:https://www.taekwondobond.nl/events/regionale-training-stijlteam-west-6/
END:VEVENT
END:VCALENDAR