BEGIN:VCALENDAR
VERSION:2.0
PRODID:-//eventon.com NONSGML v1.0//EN
CALSCALE:GREGORIAN
METHOD:PUBLISH
BEGIN:VEVENT
UID:69eb9bee873a7
DTSTAMP:20260424T163558Z
DTSTART:20230312T100000Z
DTEND:20230312T140000Z
LOCATION:
SUMMARY:Regionale training stijlteam west
DESCRIPTION:Regionale training stijlteam west\nhttps://www.taekwondobond.nl
 /events/regionale-training-stijlteam-west-7/
URL:https://www.taekwondobond.nl/events/regionale-training-stijlteam-west-7/
END:VEVENT
END:VCALENDAR