BEGIN:VCALENDAR
VERSION:2.0
PRODID:-//eventon.com NONSGML v1.0//EN
CALSCALE:GREGORIAN
METHOD:PUBLISH
BEGIN:VEVENT
UID:69eb9b90e9db8
DTSTAMP:20260424T163424Z
DTSTART:20230611T100000Z
DTEND:20230611T140000Z
LOCATION:
SUMMARY:Regionale training stijlteam west
DESCRIPTION:Regionale training stijlteam west\nhttps://www.taekwondobond.nl
 /events/regionale-training-stijlteam-west-10/
URL:https://www.taekwondobond.nl/events/regionale-training-stijlteam-west-10/
END:VEVENT
END:VCALENDAR