BEGIN:VCALENDAR
VERSION:2.0
PRODID:-//eventon.com NONSGML v1.0//EN
CALSCALE:GREGORIAN
METHOD:PUBLISH
BEGIN:VEVENT
UID:69e5f72fa7234
DTSTAMP:20260420T095143Z
DTSTART:20230702T100000Z
DTEND:20230702T140000Z
LOCATION:
SUMMARY:Regionale training stijlteam west
DESCRIPTION:Regionale training stijlteam west\nhttps://www.taekwondobond.nl
 /events/regionale-training-stijlteam-west-11/
URL:https://www.taekwondobond.nl/events/regionale-training-stijlteam-west-11/
END:VEVENT
END:VCALENDAR