BEGIN:VCALENDAR
VERSION:2.0
PRODID:-//eventon.com NONSGML v1.0//EN
CALSCALE:GREGORIAN
METHOD:PUBLISH
BEGIN:VEVENT
UID:69eb9b91e7acf
DTSTAMP:20260424T163425Z
DTSTART:20230610
DTEND:20230611
LOCATION:
SUMMARY:Open Districtskampioenschap Stijl - District West
DESCRIPTION:UITSCHRIJVING ODK Poomsae WEST 10 JUNI 2023\nhttps://www.taekwo
 ndobond.nl/events/open-districtskampioenschap-stijl-district-west/
URL:https://www.taekwondobond.nl/events/open-districtskampioenschap-stijl-district-west/
END:VEVENT
END:VCALENDAR