BEGIN:VCALENDAR
VERSION:2.0
PRODID:-//eventon.com NONSGML v1.0//EN
CALSCALE:GREGORIAN
METHOD:PUBLISH
BEGIN:VEVENT
UID:69eb9b992ceee
DTSTAMP:20260424T163433Z
DTSTART:20220910
DTEND:20220911
LOCATION:
SUMMARY:Applicatiecursus sparringscheidsrechters
DESCRIPTION:Applicatiecursus sparringscheidsrechters 10 september 2022 &nbs
 p;\nhttps://www.taekwondobond.nl/events/applicatiecursus-sparringscheidsrec
 hters-5/
URL:https://www.taekwondobond.nl/events/applicatiecursus-sparringscheidsrechters-5/
END:VEVENT
END:VCALENDAR