BEGIN:VCALENDAR
VERSION:2.0
PRODID:-//eventon.com NONSGML v1.0//EN
CALSCALE:GREGORIAN
METHOD:PUBLISH
BEGIN:VEVENT
UID:69eb9bd9b58de
DTSTAMP:20260424T163537Z
DTSTART:20221203
DTEND:20221204
LOCATION:
SUMMARY:Nationaal danexamen
DESCRIPTION:Uitschrijving Nationaal Danexamen 3 december 2022\nhttps://www.
 taekwondobond.nl/events/nationaal-danexamen-10/
URL:https://www.taekwondobond.nl/events/nationaal-danexamen-10/
END:VEVENT
END:VCALENDAR