BEGIN:VCALENDAR
VERSION:2.0
PRODID:-//eventon.com NONSGML v1.0//EN
CALSCALE:GREGORIAN
METHOD:PUBLISH
BEGIN:VEVENT
UID:69e5e309b3380
DTSTAMP:20260420T082545Z
DTSTART:20221113
DTEND:20221114
LOCATION:
SUMMARY:Danvoorbereidingstraining
DESCRIPTION:Uitschrijving danvoorbereidingscursus 13 november 2022\nhttps:/
 /www.taekwondobond.nl/events/danvoorbereidingstraining-6/
URL:https://www.taekwondobond.nl/events/danvoorbereidingstraining-6/
END:VEVENT
END:VCALENDAR