BEGIN:VCALENDAR
VERSION:2.0
PRODID:-//eventon.com NONSGML v1.0//EN
CALSCALE:GREGORIAN
METHOD:PUBLISH
BEGIN:VEVENT
UID:69eb9bedebdcf
DTSTAMP:20260424T163557Z
DTSTART:20221113
DTEND:20221114
LOCATION:
SUMMARY:Trainersbijscholing
DESCRIPTION:180 minuten trainersbijscholing 13 november 2022\nhttps://www.t
 aekwondobond.nl/events/trainersbijscholing-6/
URL:https://www.taekwondobond.nl/events/trainersbijscholing-6/
END:VEVENT
END:VCALENDAR