BEGIN:VCALENDAR
VERSION:2.0
PRODID:-//eventon.com NONSGML v1.0//EN
CALSCALE:GREGORIAN
METHOD:PUBLISH
BEGIN:VEVENT
UID:69eb9b98b88d4
DTSTAMP:20260424T163432Z
DTSTART:20221015T000000Z
DTEND:20221016T235900Z
LOCATION:
SUMMARY:49th Dutch Open Taekwondo Championships 2022
DESCRIPTION:&nbsp; DUTCH OPEN 2022 &#8211; SENIOR G2 INVITATION &nbsp; DUTC
 H OPEN 2022 &#8211; JUNIOR CADET INVITATION &nbsp;\nhttps://www.taekwondobo
 nd.nl/events/49th-dutch-open-taekwondo-championships-2022/
URL:https://www.taekwondobond.nl/events/49th-dutch-open-taekwondo-championships-2022/
END:VEVENT
END:VCALENDAR