BEGIN:VCALENDAR
VERSION:2.0
PRODID:-//eventon.com NONSGML v1.0//EN
CALSCALE:GREGORIAN
METHOD:PUBLISH
BEGIN:VEVENT
UID:69eb9bb1e9029
DTSTAMP:20260424T163457Z
DTSTART:20221127
DTEND:20221128
LOCATION:
SUMMARY:Yoo Sin Open Poomsae Nijmegen
DESCRIPTION:\nhttps://www.taekwondobond.nl/events/yoo-sin-open-poomsae-nijm
 egen/
URL:https://www.taekwondobond.nl/events/yoo-sin-open-poomsae-nijmegen/
END:VEVENT
END:VCALENDAR