BEGIN:VCALENDAR
VERSION:2.0
PRODID:-//eventon.com NONSGML v1.0//EN
CALSCALE:GREGORIAN
METHOD:PUBLISH
BEGIN:VEVENT
UID:69eb9bb252d22
DTSTAMP:20260424T163458Z
DTSTART:20221120
DTEND:20221121
LOCATION:
SUMMARY:NK Poomsae 2022
DESCRIPTION:NK Poomsae 2022\nhttps://www.taekwondobond.nl/events/nk-poomsae
 -2022-2/
URL:https://www.taekwondobond.nl/events/nk-poomsae-2022-2/
END:VEVENT
END:VCALENDAR