BEGIN:VCALENDAR
VERSION:2.0
PRODID:-//eventon.com NONSGML v1.0//EN
CALSCALE:GREGORIAN
METHOD:PUBLISH
BEGIN:VEVENT
UID:69eb9c4d5294b
DTSTAMP:20260424T163733Z
DTSTART:20221029
DTEND:20221030
LOCATION:
SUMMARY:Wedstrijdreglementencursus
DESCRIPTION:Wedstrijdreglementencursus 29 oktober 2022 &nbsp;\nhttps://www.
 taekwondobond.nl/events/wedstrijdreglementencursus-10/
URL:https://www.taekwondobond.nl/events/wedstrijdreglementencursus-10/
END:VEVENT
END:VCALENDAR