BEGIN:VCALENDAR
VERSION:2.0
PRODID:-//eventon.com NONSGML v1.0//EN
CALSCALE:GREGORIAN
METHOD:PUBLISH
BEGIN:VEVENT
UID:69eb9c4152f3d
DTSTAMP:20260424T163721Z
DTSTART:20221030T114500Z
DTEND:20221030T164500Z
LOCATION:
SUMMARY:Landelijke voorbereiding NK Sparren
DESCRIPTION:Landelijke voorbereiding NK Sparren\nhttps://www.taekwondobond.
 nl/events/landelijke-voorbereiding-nk-sparren/
URL:https://www.taekwondobond.nl/events/landelijke-voorbereiding-nk-sparren/
END:VEVENT
END:VCALENDAR