BEGIN:VCALENDAR
VERSION:2.0
PRODID:-//eventon.com NONSGML v1.0//EN
CALSCALE:GREGORIAN
METHOD:PUBLISH
BEGIN:VEVENT
UID:69eb9c3fce152
DTSTAMP:20260424T163719Z
DTSTART:20221126
DTEND:20221127
LOCATION:
SUMMARY:Poomsae seminar TC Purmerend
DESCRIPTION:Poomsae seminar TC Purmerend 26 november 2022\nhttps://www.taek
 wondobond.nl/events/poomsae-seminar-tc-purmerend/
URL:https://www.taekwondobond.nl/events/poomsae-seminar-tc-purmerend/
END:VEVENT
END:VCALENDAR