BEGIN:VCALENDAR
VERSION:2.0
PRODID:-//eventon.com NONSGML v1.0//EN
CALSCALE:GREGORIAN
METHOD:PUBLISH
BEGIN:VEVENT
UID:69eb9c409ad45
DTSTAMP:20260424T163720Z
DTSTART:20221113
DTEND:20221114
LOCATION:
SUMMARY:Danexaminatoren bijscholing
DESCRIPTION:Danexaminatoren bijscholing 13 november 2022\nhttps://www.taekw
 ondobond.nl/events/danexaminatoren-bijscholing-2/
URL:https://www.taekwondobond.nl/events/danexaminatoren-bijscholing-2/
END:VEVENT
END:VCALENDAR