BEGIN:VCALENDAR
VERSION:2.0
PRODID:-//eventon.com NONSGML v1.0//EN
CALSCALE:GREGORIAN
METHOD:PUBLISH
BEGIN:VEVENT
UID:69eb9c47e8500
DTSTAMP:20260424T163727Z
DTSTART:20221112
DTEND:20221113
LOCATION:
SUMMARY:Jubileum clinic TV Garuda
DESCRIPTION:Clinic Taekwondo vereniging Garuda 35 jarig bestaan\nhttps://ww
 w.taekwondobond.nl/events/jubileum-clinic-tv-garuda/
URL:https://www.taekwondobond.nl/events/jubileum-clinic-tv-garuda/
END:VEVENT
END:VCALENDAR