BEGIN:VCALENDAR
VERSION:2.0
PRODID:-//eventon.com NONSGML v1.0//EN
CALSCALE:GREGORIAN
METHOD:PUBLISH
BEGIN:VEVENT
UID:69eb9c04877e0
DTSTAMP:20260424T163620Z
DTSTART:20231007
DTEND:20231008
LOCATION:
SUMMARY:Open Rosmalense Sparring toernooi 2023
DESCRIPTION:Uitschrijving Open Rosmalense Sparring 2023\nhttps://www.taekwo
 ndobond.nl/events/open-rosmalense-sparring-toernooi-2023-onder-voorbehoud/
URL:https://www.taekwondobond.nl/events/open-rosmalense-sparring-toernooi-2023-onder-voorbehoud/
END:VEVENT
END:VCALENDAR