BEGIN:VCALENDAR
VERSION:2.0
PRODID:-//eventon.com NONSGML v1.0//EN
CALSCALE:GREGORIAN
METHOD:PUBLISH
BEGIN:VEVENT
UID:69e73b533121a
DTSTAMP:20260421T085443Z
DTSTART:20231008
DTEND:20231009
LOCATION:
SUMMARY:Open Rosmalense Poomsae toernooi 2023
DESCRIPTION:Uitschrijving Open Rosmalense Poomsae 2023 &nbsp;\nhttps://www.
 taekwondobond.nl/events/open-rosmalense-poomsae-toernooi-2023-onder-voorbeh
 oud/
URL:https://www.taekwondobond.nl/events/open-rosmalense-poomsae-toernooi-2023-onder-voorbehoud/
END:VEVENT
END:VCALENDAR