BEGIN:VCALENDAR
VERSION:2.0
PRODID:-//eventon.com NONSGML v1.0//EN
CALSCALE:GREGORIAN
METHOD:PUBLISH
BEGIN:VEVENT
UID:69eb9b919c5ba
DTSTAMP:20260424T163425Z
DTSTART:20221221
DTEND:20221222
LOCATION:
SUMMARY:Najaarsvergadering
DESCRIPTION:Oproep najaarsvergadering 2022 Definitieve agenda najaarsvergad
 ering 2022\nhttps://www.taekwondobond.nl/events/najaarsvergadering-7/
URL:https://www.taekwondobond.nl/events/najaarsvergadering-7/
END:VEVENT
END:VCALENDAR