BEGIN:VCALENDAR
VERSION:2.0
PRODID:-//eventon.com NONSGML v1.0//EN
CALSCALE:GREGORIAN
METHOD:PUBLISH
BEGIN:VEVENT
UID:69eb9c029de51
DTSTAMP:20260424T163618Z
DTSTART:20221215T193000Z
DTEND:20221215T220000Z
LOCATION:
SUMMARY:Districtsvergadering Noord-Oost
DESCRIPTION:oproep districtsvergadering Noord-Oost Nederland december 2022 
 definitieve agenda districtsvergadering Noord-Oost Nederland december 2022 
 &nbsp;\nhttps://www.taekwondobond.nl/events/districtsvergadering-noord-oost
 -7/
URL:https://www.taekwondobond.nl/events/districtsvergadering-noord-oost-7/
END:VEVENT
END:VCALENDAR