BEGIN:VCALENDAR
VERSION:2.0
PRODID:-//eventon.com NONSGML v1.0//EN
CALSCALE:GREGORIAN
METHOD:PUBLISH
BEGIN:VEVENT
UID:69eb9b90e8b90
DTSTAMP:20260424T163424Z
DTSTART:20231119
DTEND:20231120
LOCATION:
SUMMARY:Yoo Sin Open Poomsae Nijmegen
DESCRIPTION:Yoo-Sin Open Poomsae 2023\nhttps://www.taekwondobond.nl/events/
 yoo-sin-open-poomsae-nijmegen-onder-voorbehoud/
URL:https://www.taekwondobond.nl/events/yoo-sin-open-poomsae-nijmegen-onder-voorbehoud/
END:VEVENT
END:VCALENDAR