BEGIN:VCALENDAR
VERSION:2.0
PRODID:-//eventon.com NONSGML v1.0//EN
CALSCALE:GREGORIAN
METHOD:PUBLISH
BEGIN:VEVENT
UID:69eb9b9888888
DTSTAMP:20260424T163432Z
DTSTART:20230204T000000Z
DTEND:20230209T235900Z
LOCATION:
SUMMARY:President's Cup - Europe G2 (sparring)
DESCRIPTION:Senior &#8211; G2 Junior Cadet\nhttps://www.taekwondobond.nl/ev
 ents/presidents-cup-europe-sparring/
URL:https://www.taekwondobond.nl/events/presidents-cup-europe-sparring/
END:VEVENT
END:VCALENDAR