BEGIN:VCALENDAR
VERSION:2.0
PRODID:-//eventon.com NONSGML v1.0//EN
CALSCALE:GREGORIAN
METHOD:PUBLISH
BEGIN:VEVENT
UID:69eb9b98e7d9a
DTSTAMP:20260424T163432Z
DTSTART:20230210T000000Z
DTEND:20230214T235900Z
LOCATION:
SUMMARY:10th Turkish Open G2 (sparring)
DESCRIPTION:Senior G2 Junior Cadet\nhttps://www.taekwondobond.nl/events/10t
 h-turkish-open-sparring/
URL:https://www.taekwondobond.nl/events/10th-turkish-open-sparring/
END:VEVENT
END:VCALENDAR