BEGIN:VCALENDAR
VERSION:2.0
PRODID:-//eventon.com NONSGML v1.0//EN
CALSCALE:GREGORIAN
METHOD:PUBLISH
BEGIN:VEVENT
UID:69eb9beeeb956
DTSTAMP:20260424T163558Z
DTSTART:20230311T000000Z
DTEND:20230312T235900Z
LOCATION:
SUMMARY:Dutch Open Taekwondo Championships G1 (sparring)
DESCRIPTION:Outline Dutch Open Taekwondo Championships 2023 &nbsp;\nhttps:/
 /www.taekwondobond.nl/events/dutch-open-taekwondo-championships/
URL:https://www.taekwondobond.nl/events/dutch-open-taekwondo-championships/
END:VEVENT
END:VCALENDAR