BEGIN:VCALENDAR
VERSION:2.0
PRODID:-//eventon.com NONSGML v1.0//EN
CALSCALE:GREGORIAN
METHOD:PUBLISH
BEGIN:VEVENT
UID:69eb9b4d91f27
DTSTAMP:20260424T163317Z
DTSTART:20230318T000000Z
DTEND:20230319T235900Z
LOCATION:
SUMMARY:Belgian Open G2 (sparring)
DESCRIPTION:Senior &#8211; G2 Junior Cadet\nhttps://www.taekwondobond.nl/ev
 ents/belgian-open-g2-sparring/
URL:https://www.taekwondobond.nl/events/belgian-open-g2-sparring/
END:VEVENT
END:VCALENDAR