BEGIN:VCALENDAR
VERSION:2.0
PRODID:-//eventon.com NONSGML v1.0//EN
CALSCALE:GREGORIAN
METHOD:PUBLISH
BEGIN:VEVENT
UID:69e74d694e20e
DTSTAMP:20260421T101153Z
DTSTART:20230429T000000Z
DTEND:20230430T235900Z
LOCATION:
SUMMARY:Swedish Open G1 (sparring)
DESCRIPTION:Senior &#8211; G1 Junior Cadet &nbsp;\nhttps://www.taekwondobon
 d.nl/events/swedish-open-g1-sparring/
URL:https://www.taekwondobond.nl/events/swedish-open-g1-sparring/
END:VEVENT
END:VCALENDAR