BEGIN:VCALENDAR
VERSION:2.0
PRODID:-//eventon.com NONSGML v1.0//EN
CALSCALE:GREGORIAN
METHOD:PUBLISH
BEGIN:VEVENT
UID:69eb9b913cf60
DTSTAMP:20260424T163425Z
DTSTART:20230529T000000Z
DTEND:20230604T235900Z
LOCATION:
SUMMARY:World Taekwondo Championships (sparring)
DESCRIPTION:Senior &#8211; G14\nhttps://www.taekwondobond.nl/events/world-t
 aekwondo-championships-sparring/
URL:https://www.taekwondobond.nl/events/world-taekwondo-championships-sparring/
END:VEVENT
END:VCALENDAR