BEGIN:VCALENDAR
VERSION:2.0
PRODID:-//eventon.com NONSGML v1.0//EN
CALSCALE:GREGORIAN
METHOD:PUBLISH
BEGIN:VEVENT
UID:69eb9bb10f0d3
DTSTAMP:20260424T163457Z
DTSTART:20230609T000000Z
DTEND:20230611T235900Z
LOCATION:
SUMMARY:Roma World Taekwondo Grand Prix (sparring)
DESCRIPTION:Senior &#8211; G6\nhttps://www.taekwondobond.nl/events/world-ta
 ekwondo-grand-prix-sparring/
URL:https://www.taekwondobond.nl/events/world-taekwondo-grand-prix-sparring/
END:VEVENT
END:VCALENDAR