BEGIN:VCALENDAR
VERSION:2.0
PRODID:-//eventon.com NONSGML v1.0//EN
CALSCALE:GREGORIAN
METHOD:PUBLISH
BEGIN:VEVENT
UID:69eb9b91a8695
DTSTAMP:20260424T163425Z
DTSTART:20230610T000000Z
DTEND:20230611T235900Z
LOCATION:
SUMMARY:Luxemburg Open G1 (sparring)
DESCRIPTION:Senior &#8211; G1 Junior Cadet &nbsp;\nhttps://www.taekwondobon
 d.nl/events/lux-open-sparring/
URL:https://www.taekwondobond.nl/events/lux-open-sparring/
END:VEVENT
END:VCALENDAR