BEGIN:VCALENDAR
VERSION:2.0
PRODID:-//eventon.com NONSGML v1.0//EN
CALSCALE:GREGORIAN
METHOD:PUBLISH
BEGIN:VEVENT
UID:69e6330c48588
DTSTAMP:20260420T140708Z
DTSTART:20230623T000000Z
DTEND:20230626T235900Z
LOCATION:
SUMMARY:European Games 2023 (sparring)
DESCRIPTION:Senior &#8211; G4\nhttps://www.taekwondobond.nl/events/european
 -games-2023-sparring/
URL:https://www.taekwondobond.nl/events/european-games-2023-sparring/
END:VEVENT
END:VCALENDAR