BEGIN:VCALENDAR
VERSION:2.0
PRODID:-//eventon.com NONSGML v1.0//EN
CALSCALE:GREGORIAN
METHOD:PUBLISH
BEGIN:VEVENT
UID:69eb9b6c569ba
DTSTAMP:20260424T163348Z
DTSTART:20230828T000000Z
DTEND:20230831T235900Z
LOCATION:
SUMMARY:World Taekwondo Cadet Championships (sparring)
DESCRIPTION:Cadet\nhttps://www.taekwondobond.nl/events/world-taekwondo-cade
 t-championships/
URL:https://www.taekwondobond.nl/events/world-taekwondo-cadet-championships/
END:VEVENT
END:VCALENDAR