BEGIN:VCALENDAR
VERSION:2.0
PRODID:-//eventon.com NONSGML v1.0//EN
CALSCALE:GREGORIAN
METHOD:PUBLISH
BEGIN:VEVENT
UID:69eb9bf552a69
DTSTAMP:20260424T163605Z
DTSTART:20230831T000000Z
DTEND:20230902T235900Z
LOCATION:
SUMMARY:Paris World Taekwondo Grand-Prix (Sparring)
DESCRIPTION:Senior &#8211; G6\nhttps://www.taekwondobond.nl/events/world-ta
 ekwondo-grand-prix-sparring-2/
URL:https://www.taekwondobond.nl/events/world-taekwondo-grand-prix-sparring-2/
END:VEVENT
END:VCALENDAR