BEGIN:VCALENDAR
VERSION:2.0
PRODID:-//eventon.com NONSGML v1.0//EN
CALSCALE:GREGORIAN
METHOD:PUBLISH
BEGIN:VEVENT
UID:69eb9b49772ea
DTSTAMP:20260424T163313Z
DTSTART:20230908T000000Z
DTEND:20230910T235900Z
LOCATION:
SUMMARY:Polish Open G1 (sparring)
DESCRIPTION:Senior &#8211; G1 Junior Cadet\nhttps://www.taekwondobond.nl/ev
 ents/polish-open-sparring/
URL:https://www.taekwondobond.nl/events/polish-open-sparring/
END:VEVENT
END:VCALENDAR