BEGIN:VCALENDAR
VERSION:2.0
PRODID:-//eventon.com NONSGML v1.0//EN
CALSCALE:GREGORIAN
METHOD:PUBLISH
BEGIN:VEVENT
UID:69e5e411e68cd
DTSTAMP:20260420T083009Z
DTSTART:20231111T000000Z
DTEND:20231112T235900Z
LOCATION:
SUMMARY:French Open G1 (sparring)
DESCRIPTION:Senior &#8211; G1 Junior Cadet\nhttps://www.taekwondobond.nl/ev
 ents/frensh-open-sparring/
URL:https://www.taekwondobond.nl/events/frensh-open-sparring/
END:VEVENT
END:VCALENDAR