BEGIN:VCALENDAR
VERSION:2.0
PRODID:-//eventon.com NONSGML v1.0//EN
CALSCALE:GREGORIAN
METHOD:PUBLISH
BEGIN:VEVENT
UID:69eb9b90e6f00
DTSTAMP:20260424T163424Z
DTSTART:20231202T000000Z
DTEND:20231203T235900Z
LOCATION:
SUMMARY:Manchester World Taekwondo Grand-Prix Final
DESCRIPTION:Senior &#8211; G10\nhttps://www.taekwondobond.nl/events/manches
 ter-world-taekwondo-grand-prix-final/
URL:https://www.taekwondobond.nl/events/manchester-world-taekwondo-grand-prix-final/
END:VEVENT
END:VCALENDAR