BEGIN:VCALENDAR
VERSION:2.0
PRODID:-//eventon.com NONSGML v1.0//EN
CALSCALE:GREGORIAN
METHOD:PUBLISH
BEGIN:VEVENT
UID:69eb9b97b6994
DTSTAMP:20260424T163431Z
DTSTART:20230201T000000Z
DTEND:20230202T235900Z
LOCATION:
SUMMARY:President's Cup - Europe G2 (poomsae)
DESCRIPTION:G2\nhttps://www.taekwondobond.nl/events/presidents-cup-europe-g
 2-poomsae/
URL:https://www.taekwondobond.nl/events/presidents-cup-europe-g2-poomsae/
END:VEVENT
END:VCALENDAR