BEGIN:VCALENDAR
VERSION:2.0
PRODID:-//eventon.com NONSGML v1.0//EN
CALSCALE:GREGORIAN
METHOD:PUBLISH
BEGIN:VEVENT
UID:69eb9bd8e5b78
DTSTAMP:20260424T163536Z
DTSTART:20230202T000000Z
DTEND:20230203T235900Z
LOCATION:
SUMMARY:Turkish Open Poomsae Championships G2
DESCRIPTION:Turkish Open Poomsae Championships G2\nhttps://www.taekwondobon
 d.nl/events/turkish-open-poomsae-championships-g2/
URL:https://www.taekwondobond.nl/events/turkish-open-poomsae-championships-g2/
END:VEVENT
END:VCALENDAR