BEGIN:VCALENDAR
VERSION:2.0
PRODID:-//eventon.com NONSGML v1.0//EN
CALSCALE:GREGORIAN
METHOD:PUBLISH
BEGIN:VEVENT
UID:69eb9bda28060
DTSTAMP:20260424T163538Z
DTSTART:20230211T000000Z
DTEND:20230212T235900Z
LOCATION:
SUMMARY:French Open G1 (poomsae)
DESCRIPTION:G1\nhttps://www.taekwondobond.nl/events/french-open-poomsae/
URL:https://www.taekwondobond.nl/events/french-open-poomsae/
END:VEVENT
END:VCALENDAR